BEGIN:VCALENDAR
VERSION:2.0
PRODID:-//EWH - ECPv6.15.13//NONSGML v1.0//EN
CALSCALE:GREGORIAN
METHOD:PUBLISH
X-ORIGINAL-URL:https://ewh.at
X-WR-CALDESC:Veranstaltungen für EWH
REFRESH-INTERVAL;VALUE=DURATION:PT1H
X-Robots-Tag:noindex
X-PUBLISHED-TTL:PT1H
BEGIN:VTIMEZONE
TZID:UTC
BEGIN:STANDARD
TZOFFSETFROM:+0000
TZOFFSETTO:+0000
TZNAME:UTC
DTSTART:20210101T000000
END:STANDARD
END:VTIMEZONE
BEGIN:VTIMEZONE
TZID:Atlantic/Azores
BEGIN:DAYLIGHT
TZOFFSETFROM:-0100
TZOFFSETTO:+0000
TZNAME:+00
DTSTART:20220327T010000
END:DAYLIGHT
BEGIN:STANDARD
TZOFFSETFROM:+0000
TZOFFSETTO:-0100
TZNAME:-01
DTSTART:20221030T010000
END:STANDARD
BEGIN:DAYLIGHT
TZOFFSETFROM:-0100
TZOFFSETTO:+0000
TZNAME:+00
DTSTART:20230326T010000
END:DAYLIGHT
BEGIN:STANDARD
TZOFFSETFROM:+0000
TZOFFSETTO:-0100
TZNAME:-01
DTSTART:20231029T010000
END:STANDARD
BEGIN:DAYLIGHT
TZOFFSETFROM:-0100
TZOFFSETTO:+0000
TZNAME:+00
DTSTART:20240331T010000
END:DAYLIGHT
BEGIN:STANDARD
TZOFFSETFROM:+0000
TZOFFSETTO:-0100
TZNAME:-01
DTSTART:20241027T010000
END:STANDARD
END:VTIMEZONE
BEGIN:VEVENT
DTSTART;VALUE=DATE:20231112
DTEND;VALUE=DATE:20231119
DTSTAMP:20260424T203059
CREATED:20210822T081204Z
LAST-MODIFIED:20220310T092621Z
UID:2649-1699747200-1700351999@ewh.at
SUMMARY:Agritechnica
DESCRIPTION:
URL:https://ewh.at/event/agritechnica/
LOCATION:Hannover\, Germany
END:VEVENT
BEGIN:VEVENT
DTSTART;VALUE=DATE:20231107
DTEND;VALUE=DATE:20231111
DTSTAMP:20260424T203059
CREATED:20210823T065124Z
LAST-MODIFIED:20220310T093006Z
UID:2716-1699315200-1699660799@ewh.at
SUMMARY:Blechexpo
DESCRIPTION:
URL:https://ewh.at/event/blechexpo/
LOCATION:Stuttgart
END:VEVENT
BEGIN:VEVENT
DTSTART;VALUE=DATE:20231024
DTEND;VALUE=DATE:20231028
DTSTAMP:20260424T203059
CREATED:20220309T151401Z
LAST-MODIFIED:20220310T092530Z
UID:2778-1698105600-1698451199@ewh.at
SUMMARY:A + A Messe
DESCRIPTION:
URL:https://ewh.at/event/a-a-messe/
LOCATION:Düsseldorf
END:VEVENT
BEGIN:VEVENT
DTSTART;VALUE=DATE:20230919
DTEND;VALUE=DATE:20230922
DTSTAMP:20260424T203059
CREATED:20220310T083729Z
LAST-MODIFIED:20220310T094036Z
UID:2815-1695081600-1695340799@ewh.at
SUMMARY:Schweißen
DESCRIPTION:
URL:https://ewh.at/event/schweissen/
LOCATION:Linz
END:VEVENT
BEGIN:VEVENT
DTSTART;VALUE=DATE:20230919
DTEND;VALUE=DATE:20230923
DTSTAMP:20260424T203059
CREATED:20220310T081758Z
LAST-MODIFIED:20220310T093222Z
UID:2790-1695081600-1695427199@ewh.at
SUMMARY:CMS
DESCRIPTION:
URL:https://ewh.at/event/cms/
LOCATION:Berlin
END:VEVENT
BEGIN:VEVENT
DTSTART;VALUE=DATE:20230911
DTEND;VALUE=DATE:20230916
DTSTAMP:20260424T203059
CREATED:20220310T083824Z
LAST-MODIFIED:20220310T094106Z
UID:2817-1694390400-1694822399@ewh.at
SUMMARY:Schweißen und Schneiden
DESCRIPTION:
URL:https://ewh.at/event/schweissen-und-schneiden/
LOCATION:Essen
END:VEVENT
BEGIN:VEVENT
DTSTART;VALUE=DATE:20230618
DTEND;VALUE=DATE:20230621
DTSTAMP:20260424T203059
CREATED:20220310T084032Z
LAST-MODIFIED:20220310T093306Z
UID:2792-1687046400-1687305599@ewh.at
SUMMARY:Demopark
DESCRIPTION:
URL:https://ewh.at/event/demopark/
LOCATION:Eisenach-Kindl\, Germany
END:VEVENT
BEGIN:VEVENT
DTSTART;VALUE=DATE:20230606
DTEND;VALUE=DATE:20230609
DTSTAMP:20260424T203059
CREATED:20220310T083030Z
LAST-MODIFIED:20220310T093348Z
UID:2799-1686009600-1686268799@ewh.at
SUMMARY:Ferroforma
DESCRIPTION:
URL:https://ewh.at/event/ferroforma/
LOCATION:Bilbao
END:VEVENT
BEGIN:VEVENT
DTSTART;VALUE=DATE:20230523
DTEND;VALUE=DATE:20230526
DTSTAMP:20260424T203059
CREATED:20210823T070454Z
LAST-MODIFIED:20220310T094424Z
UID:2724-1684800000-1685059199@ewh.at
SUMMARY:Smart Automation Austria
DESCRIPTION:
URL:https://ewh.at/event/smart-automation-austria/
LOCATION:Linz
END:VEVENT
BEGIN:VEVENT
DTSTART;VALUE=DATE:20230315
DTEND;VALUE=DATE:20230319
DTSTAMP:20260424T203059
CREATED:20210822T162015Z
LAST-MODIFIED:20220308T112347Z
UID:2688-1678838400-1679183999@ewh.at
SUMMARY:Handwerk
DESCRIPTION:
URL:https://ewh.at/event/handwerk/
LOCATION:Wels
END:VEVENT
BEGIN:VEVENT
DTSTART;VALUE=DATE:20230313
DTEND;VALUE=DATE:20230318
DTSTAMP:20260424T203059
CREATED:20220310T083633Z
LAST-MODIFIED:20220310T083633Z
UID:2813-1678665600-1679097599@ewh.at
SUMMARY:ISH
DESCRIPTION:
URL:https://ewh.at/event/ish/
LOCATION:Frankfurt
END:VEVENT
BEGIN:VEVENT
DTSTART;VALUE=DATE:20230228
DTEND;VALUE=DATE:20230303
DTSTAMP:20260424T203059
CREATED:20220309T151532Z
LAST-MODIFIED:20220310T094952Z
UID:2780-1677542400-1677801599@ewh.at
SUMMARY:Asia Pacific Sourcing
DESCRIPTION:
URL:https://ewh.at/event/asia-pacific-sourcing/
LOCATION:Köln
END:VEVENT
BEGIN:VEVENT
DTSTART;VALUE=DATE:20230226
DTEND;VALUE=DATE:20230303
DTSTAMP:20260424T203059
CREATED:20220310T082814Z
LAST-MODIFIED:20220310T082814Z
UID:2797-1677369600-1677801599@ewh.at
SUMMARY:Euroshop
DESCRIPTION:
URL:https://ewh.at/event/euroshop/
LOCATION:Düsseldorf
END:VEVENT
BEGIN:VEVENT
DTSTART;VALUE=DATE:20230203
DTEND;VALUE=DATE:20230208
DTSTAMP:20260424T203059
CREATED:20210822T081933Z
LAST-MODIFIED:20220308T113827Z
UID:2655-1675382400-1675814399@ewh.at
SUMMARY:Ambiente
DESCRIPTION:
URL:https://ewh.at/event/ambiente/
LOCATION:Frankfurt
END:VEVENT
BEGIN:VEVENT
DTSTART;VALUE=DATE:20230124
DTEND;VALUE=DATE:20230128
DTSTAMP:20260424T203059
CREATED:20210822T162438Z
LAST-MODIFIED:20220310T093758Z
UID:2695-1674518400-1674863999@ewh.at
SUMMARY:IPM - Int. Pflanzenmesse
DESCRIPTION:
URL:https://ewh.at/event/ipm/
LOCATION:Essen
END:VEVENT
BEGIN:VEVENT
DTSTART;VALUE=DATE:20230109
DTEND;VALUE=DATE:20230115
DTSTAMP:20260424T203059
CREATED:20220309T151656Z
LAST-MODIFIED:20220309T151656Z
UID:2782-1673222400-1673740799@ewh.at
SUMMARY:Bau Messe
DESCRIPTION:
URL:https://ewh.at/event/bau-messe/
LOCATION:München
END:VEVENT
BEGIN:VEVENT
DTSTART;VALUE=DATE:20221129
DTEND;VALUE=DATE:20221203
DTSTAMP:20260424T203059
CREATED:20210822T081710Z
LAST-MODIFIED:20220310T092831Z
UID:2652-1669680000-1670025599@ewh.at
SUMMARY:Agromek
DESCRIPTION:
URL:https://ewh.at/event/agromek/
LOCATION:Herning
END:VEVENT
BEGIN:VEVENT
DTSTART;VALUE=DATE:20221123
DTEND;VALUE=DATE:20221127
DTSTAMP:20260424T203059
CREATED:20210822T080937Z
LAST-MODIFIED:20220308T111057Z
UID:2647-1669161600-1669507199@ewh.at
SUMMARY:Agraria
DESCRIPTION:
URL:https://ewh.at/event/agraria/
LOCATION:Wels
END:VEVENT
BEGIN:VEVENT
DTSTART;VALUE=DATE:20221110
DTEND;VALUE=DATE:20221114
DTSTAMP:20260424T203059
CREATED:20210822T083029Z
LAST-MODIFIED:20220310T095137Z
UID:2666-1668038400-1668383999@ewh.at
SUMMARY:Bauen + Wohnen
DESCRIPTION:
URL:https://ewh.at/event/bauen-wohnen-2/
LOCATION:Wien
END:VEVENT
BEGIN:VEVENT
DTSTART;VALUE=DATE:20221109
DTEND;VALUE=DATE:20221114
DTSTAMP:20260424T203059
CREATED:20210823T065610Z
LAST-MODIFIED:20220308T114941Z
UID:2719-1667952000-1668383999@ewh.at
SUMMARY:Eima
DESCRIPTION:
URL:https://ewh.at/event/eima/
LOCATION:Bologna
END:VEVENT
BEGIN:VEVENT
DTSTART;VALUE=DATE:20221101
DTEND;VALUE=DATE:20221102
DTSTAMP:20260424T203059
CREATED:20220313T104943Z
LAST-MODIFIED:20220313T105009Z
UID:2826-1667260800-1667347199@ewh.at
SUMMARY:3E - Messe
DESCRIPTION:
URL:https://ewh.at/event/3e-messe/
LOCATION:Wels
END:VEVENT
BEGIN:VEVENT
DTSTART;VALUE=DATE:20221101
DTEND;VALUE=DATE:20221102
DTSTAMP:20260424T203059
CREATED:20220309T151811Z
LAST-MODIFIED:20220309T151811Z
UID:2784-1667260800-1667347199@ewh.at
SUMMARY:Bauen und Energie
DESCRIPTION:
URL:https://ewh.at/event/bauen-und-energie/
LOCATION:Wien
END:VEVENT
BEGIN:VEVENT
DTSTART;VALUE=DATE:20221025
DTEND;VALUE=DATE:20221029
DTSTAMP:20260424T203059
CREATED:20220310T082714Z
LAST-MODIFIED:20220310T082714Z
UID:2795-1666656000-1667001599@ewh.at
SUMMARY:Euroblech
DESCRIPTION:
URL:https://ewh.at/event/euroblech/
LOCATION:Hannover\, Germany
END:VEVENT
BEGIN:VEVENT
DTSTART;VALUE=DATE:20221024
DTEND;VALUE=DATE:20221031
DTSTAMP:20260424T203059
CREATED:20220309T151918Z
LAST-MODIFIED:20220309T151918Z
UID:2786-1666569600-1667174399@ewh.at
SUMMARY:Bauma
DESCRIPTION:
URL:https://ewh.at/event/bauma/
LOCATION:München
END:VEVENT
BEGIN:VEVENT
DTSTART;VALUE=DATE:20221015
DTEND;VALUE=DATE:20221024
DTSTAMP:20260424T203059
CREATED:20210822T082652Z
LAST-MODIFIED:20220308T110059Z
UID:2663-1665792000-1666569599@ewh.at
SUMMARY:Bauen + Wohnen
DESCRIPTION:
URL:https://ewh.at/event/bauen-wohnen/
LOCATION:Hannover\, Germany
END:VEVENT
BEGIN:VEVENT
DTSTART;VALUE=DATE:20221002
DTEND;VALUE=DATE:20221007
DTSTAMP:20260424T203059
CREATED:20210822T162612Z
LAST-MODIFIED:20220308T112526Z
UID:2698-1664668800-1665100799@ewh.at
SUMMARY:Light & Building
DESCRIPTION:
URL:https://ewh.at/event/light-building/
LOCATION:Frankfurt
END:VEVENT
BEGIN:VEVENT
DTSTART;VALUE=DATE:20220925
DTEND;VALUE=DATE:20220929
DTSTAMP:20260424T203059
CREATED:20210822T083327Z
LAST-MODIFIED:20220308T113210Z
UID:2670-1664064000-1664409599@ewh.at
SUMMARY:Eisenwarenmesse
DESCRIPTION:
URL:https://ewh.at/event/eissenwarenmesse/
LOCATION:Köln
END:VEVENT
BEGIN:VEVENT
DTSTART;VALUE=DATE:20220920
DTEND;VALUE=DATE:20220924
DTSTAMP:20260424T203059
CREATED:20210822T163427Z
LAST-MODIFIED:20210822T163454Z
UID:2708-1663632000-1663977599@ewh.at
SUMMARY:Security
DESCRIPTION:
URL:https://ewh.at/event/secirity/
LOCATION:Essen
END:VEVENT
BEGIN:VEVENT
DTSTART;VALUE=DATE:20220914
DTEND;VALUE=DATE:20220918
DTSTAMP:20260424T203059
CREATED:20210822T161655Z
LAST-MODIFIED:20210822T161655Z
UID:2683-1663113600-1663459199@ewh.at
SUMMARY:Galabau
DESCRIPTION:
URL:https://ewh.at/event/galabau/
LOCATION:Nürnberg
END:VEVENT
BEGIN:VEVENT
DTSTART;VALUE=DATE:20220913
DTEND;VALUE=DATE:20221018
DTSTAMP:20260424T203059
CREATED:20210822T082201Z
LAST-MODIFIED:20210822T082201Z
UID:2658-1663027200-1666051199@ewh.at
SUMMARY:Automechanika
DESCRIPTION:
URL:https://ewh.at/event/automechanika/
LOCATION:Frankfurt
END:VEVENT
END:VCALENDAR